BEGIN:VCALENDAR
VERSION:2.0
PRODID:-//lichtenrade650.de - ECPv6.13.2.1//NONSGML v1.0//EN
CALSCALE:GREGORIAN
METHOD:PUBLISH
X-ORIGINAL-URL:https://lichtenrade650.de
X-WR-CALDESC:Veranstaltungen für lichtenrade650.de
REFRESH-INTERVAL;VALUE=DURATION:PT1H
X-Robots-Tag:noindex
X-PUBLISHED-TTL:PT1H
BEGIN:VTIMEZONE
TZID:Europe/Berlin
BEGIN:DAYLIGHT
TZOFFSETFROM:+0100
TZOFFSETTO:+0200
TZNAME:CEST
DTSTART:20250330T010000
END:DAYLIGHT
BEGIN:STANDARD
TZOFFSETFROM:+0200
TZOFFSETTO:+0100
TZNAME:CET
DTSTART:20251026T010000
END:STANDARD
END:VTIMEZONE
BEGIN:VEVENT
DTSTART;TZID=Europe/Berlin:20250907T140000
DTEND;TZID=Europe/Berlin:20250907T160000
DTSTAMP:20260423T120411
CREATED:20250721T214633Z
LAST-MODIFIED:20250721T214714Z
UID:102-1757253600-1757260800@lichtenrade650.de
SUMMARY:BezirksTour: 650 Jahre Lichtenrade\, Westseite – Einst und Jetzt
DESCRIPTION:Lichtenrade ist im Gegensatz zu anderen Ortsteilen in Tempelhof-Schöneberg erst vor ca. 650 Jahren als Bauerndorf gegründet worden. Der Charakter änderte sich schlagartig durch den Bau der Bahnstrecke Richtung Dresden\, die leider auch den Ort teilte. Wir schauen uns den kleineren und ruhigeren Teil an und beginnen mit der Abendrotsiedlung. Der ca. 5 km lange Weg bringt uns dann zum S-Bahnhof Lichtenrade. \nAnmeldung erforderlich!
URL:https://lichtenrade650.de/event/bezirkstour-650-jahre-lichtenrade-westseite-einst-und-jetzt/
LOCATION:S-Bahnhof Schichauweg (S2\, P+R Parkplatz)\, Miethepfad 2\, Berlin\, Berlin\, 12307\, Germany
END:VEVENT
END:VCALENDAR