BEGIN:VCALENDAR
VERSION:2.0
PRODID:-//lichtenrade650.de - ECPv6.13.2.1//NONSGML v1.0//EN
CALSCALE:GREGORIAN
METHOD:PUBLISH
X-ORIGINAL-URL:https://lichtenrade650.de
X-WR-CALDESC:Veranstaltungen für lichtenrade650.de
REFRESH-INTERVAL;VALUE=DURATION:PT1H
X-Robots-Tag:noindex
X-PUBLISHED-TTL:PT1H
BEGIN:VTIMEZONE
TZID:Europe/Berlin
BEGIN:DAYLIGHT
TZOFFSETFROM:+0100
TZOFFSETTO:+0200
TZNAME:CEST
DTSTART:20250330T010000
END:DAYLIGHT
BEGIN:STANDARD
TZOFFSETFROM:+0200
TZOFFSETTO:+0100
TZNAME:CET
DTSTART:20251026T010000
END:STANDARD
END:VTIMEZONE
BEGIN:VEVENT
DTSTART;TZID=Europe/Berlin:20250917T183000
DTEND;TZID=Europe/Berlin:20250917T200000
DTSTAMP:20260423T131211
CREATED:20250721T220935Z
LAST-MODIFIED:20250721T220935Z
UID:120-1758133800-1758139200@lichtenrade650.de
SUMMARY:Zwangsarbeit in Lichtenrade und der Erich-Hermann-Platz
DESCRIPTION:„Vor unserer Haustür“ – ein bahnbrechendes Buch von jungen Leuten\, die das Gespräch mit ihren Nachbarn gesucht haben\, um den Naziterror in Lichtenrade zu erforschen\n– mit Andreas Bräutigam und Ruth Zantow\, Geschichtswerkstatt Lichtenrade
URL:https://lichtenrade650.de/event/zwangsarbeit-in-lichtenrade-und-der-erich-hermann-platz/
LOCATION:Lortzingclub\, Lortzingstr. 16\, Berlin\, Berlin\, 12307
END:VEVENT
END:VCALENDAR