BEGIN:VCALENDAR
VERSION:2.0
PRODID:-//lichtenrade650.de - ECPv6.13.2.1//NONSGML v1.0//EN
CALSCALE:GREGORIAN
METHOD:PUBLISH
X-WR-CALNAME:lichtenrade650.de
X-ORIGINAL-URL:https://lichtenrade650.de
X-WR-CALDESC:Veranstaltungen für lichtenrade650.de
REFRESH-INTERVAL;VALUE=DURATION:PT1H
X-Robots-Tag:noindex
X-PUBLISHED-TTL:PT1H
BEGIN:VTIMEZONE
TZID:Europe/Berlin
BEGIN:DAYLIGHT
TZOFFSETFROM:+0100
TZOFFSETTO:+0200
TZNAME:CEST
DTSTART:20250330T010000
END:DAYLIGHT
BEGIN:STANDARD
TZOFFSETFROM:+0200
TZOFFSETTO:+0100
TZNAME:CET
DTSTART:20251026T010000
END:STANDARD
END:VTIMEZONE
BEGIN:VEVENT
DTSTART;TZID=Europe/Berlin:20250920T150000
DTEND;TZID=Europe/Berlin:20250920T200000
DTSTAMP:20260423T131604
CREATED:20250721T215825Z
LAST-MODIFIED:20250721T215825Z
UID:108-1758380400-1758398400@lichtenrade650.de
SUMMARY:6. Kultursommerfest des Amtes für Weiterbildung und Kultur Tempelhof-Schöneberg
DESCRIPTION:Das Amt für Weiterbildung und Kultur Tempelhof-Schöneberg und seine Häuser – Dezentrale Kulturarbeit\, Jugendkunstschule\, Kommunale Galerien\, Leo Kestenberg Musikschule\, Museen Tempelhof-Schöneberg\, Stadtbibliothek und Volkshochschule – erwarten Sie und Euch mit einem abwechslungsreichen und unterhaltsamen Programm für alle Generationen. \nDer Eintritt ist frei. Kultur-\, Info- und Mitmach-Angebote drinnen und draußen.
URL:https://lichtenrade650.de/event/6-kultursommerfest-des-amtes-fuer-weiterbildung-und-kultur-tempelhof-schoeneberg/
LOCATION:Alte Mälzerei Lichtenrade\, Steinstraße 41\,\, Berlin\, Berlin\, 12307\, Germany
ORGANIZER;CN="Amt f%C3%BCr Weiterbildung und Kultur":MAILTO:ivanka.jagec@ba-ts.berlin.de
END:VEVENT
BEGIN:VEVENT
DTSTART;TZID=Europe/Berlin:20250920T153000
DTEND;TZID=Europe/Berlin:20250920T163000
DTSTAMP:20260423T131604
CREATED:20250721T220236Z
LAST-MODIFIED:20250721T220236Z
UID:114-1758382200-1758385800@lichtenrade650.de
SUMMARY:BezirksTour: Mälzerei der Schlossbrauerei Schöneberg
DESCRIPTION:Die Alte Mälzerei in Lichtenrade wurde 1897-98 als Mälzerei der Schlossbrauerei Schöneberg errichtet und 1899 in Betrieb genommen. Die Produktion von Malz\, das für das Brauen von Bier notwendig ist\, wurde nur 30 Jahre später wieder eingestellt und das Gebäude als Lager genutzt. Wer heute mit wachem Blick durchs Haus streift\, entdeckt Spuren der Vergangenheit. \nAnmeldung erforderlich!
URL:https://lichtenrade650.de/event/bezirkstour-maelzerei-der-schlossbrauerei-schoeneberg/
LOCATION:Alte Mälzerei Lichtenrade\, Steinstraße 41\,\, Berlin\, Berlin\, 12307\, Germany
END:VEVENT
BEGIN:VEVENT
DTSTART;TZID=Europe/Berlin:20250920T170000
DTEND;TZID=Europe/Berlin:20250920T180000
DTSTAMP:20260423T131604
CREATED:20250721T220031Z
LAST-MODIFIED:20250721T220031Z
UID:112-1758387600-1758391200@lichtenrade650.de
SUMMARY:BezirksTour: Dresdner Bahn und Bahnhofstraße in Lichtenrade
DESCRIPTION:Mit dem Bau der Dresdner Bahn im Jahre 1875 wurde Lichtenrade ein Ortsteil\, der gut von Berlin aus zu erreichen war. Mit dem erneuten Ausbau der Strecke wird letztendlich Berlin nicht nur im 15 Minuten Takt mit dem BER\, sondern auch über den Bahnkorridor 7 überregional in Richtung Südosten verbunden sein. Vom Bahnhof gelangt man auf die 1906 ausgebaute Bahnhofstraße\, die zurzeit saniert wird. \nAnmeldung erforderlich!
URL:https://lichtenrade650.de/event/bezirkstour-dresdner-bahn-und-bahnhofstrasse-in-lichtenrade/
LOCATION:Alte Mälzerei Lichtenrade\, Steinstraße 41\,\, Berlin\, Berlin\, 12307\, Germany
ORGANIZER;CN="Amt f%C3%BCr Weiterbildung und Kultur":MAILTO:ivanka.jagec@ba-ts.berlin.de
END:VEVENT
END:VCALENDAR