BEGIN:VCALENDAR
VERSION:2.0
PRODID:-//lichtenrade650.de - ECPv6.13.2.1//NONSGML v1.0//EN
CALSCALE:GREGORIAN
METHOD:PUBLISH
X-ORIGINAL-URL:https://lichtenrade650.de
X-WR-CALDESC:Veranstaltungen für lichtenrade650.de
REFRESH-INTERVAL;VALUE=DURATION:PT1H
X-Robots-Tag:noindex
X-PUBLISHED-TTL:PT1H
BEGIN:VTIMEZONE
TZID:Europe/Berlin
BEGIN:DAYLIGHT
TZOFFSETFROM:+0100
TZOFFSETTO:+0200
TZNAME:CEST
DTSTART:20250330T010000
END:DAYLIGHT
BEGIN:STANDARD
TZOFFSETFROM:+0200
TZOFFSETTO:+0100
TZNAME:CET
DTSTART:20251026T010000
END:STANDARD
END:VTIMEZONE
BEGIN:VEVENT
DTSTART;TZID=Europe/Berlin:20251001T183000
DTEND;TZID=Europe/Berlin:20251001T193000
DTSTAMP:20260423T131546
CREATED:20250721T221334Z
LAST-MODIFIED:20251001T142151Z
UID:123-1759343400-1759347000@lichtenrade650.de
SUMMARY:[Abgesagt!] Erzählcafé: 650 Jahre Lichtenrade -	Lichtenrader Ureinwohner erzählen\, wie es damals war
DESCRIPTION:Diese Veranstaltung wurde leider abgesagt! \n– Das alte Lichtenrade; Lichtenrade und die Mauer; Lichtenrade nach dem Mauerfall\n– mit Tee aus dem Samowar\, Kaffee und Keksen\n– Gesprächsleitung: Gerhard Moses Heß und Dr. Lutz Prieß
URL:https://lichtenrade650.de/event/erzaehlcafe-650-jahre-lichtenrade-lichtenrader-ureinwohner-erzaehlen-wie-es-damals-war/
LOCATION:Nachbarschaftszentrum Bornhagenweg\, Bornhagenweg 43\, Berlin\, Berlin\, 12309\, Germany
END:VEVENT
END:VCALENDAR